BEGIN:VCALENDAR
PRODID:-//eluceo/ical//2.0/EN
VERSION:2.0
CALSCALE:GREGORIAN
BEGIN:VEVENT
UID:d222982a5e8bd5293662e189392043d2
DTSTAMP:20260422T204041Z
SUMMARY:«Ermahnungen\, Wünsche und ferne Welten» – Zur bildnerischen E
 rzählkunst auf Toggenburger Möbeln
DESCRIPTION:Speaker(s): Jost Kirchgraber\, Dr. phil.\, Germanist und Kunsth
 istoriker
URL:https://rotaryclubluzern.ch/en/agenda/show/34599
DTSTART;TZID=Europe/Zurich:20131021T121500
DTEND;TZID=Europe/Zurich:20131021T121500
LOCATION:Hotel Wilden Mann
CATEGORIES:Rotary
END:VEVENT
BEGIN:VTIMEZONE
TZID:Europe/Zurich
BEGIN:DAYLIGHT
DTSTART:20131021T121500
TZNAME:CEST
TZOFFSETTO:+0200
TZOFFSETFROM:+0200
END:DAYLIGHT
END:VTIMEZONE
END:VCALENDAR
