BEGIN:VCALENDAR
PRODID:-//eluceo/ical//2.0/EN
VERSION:2.0
CALSCALE:GREGORIAN
BEGIN:VEVENT
UID:3c93dbbfa23be17bf4c18aa9612282db
DTSTAMP:20260422T204206Z
SUMMARY:Musikkritik wider den tierischen Ernst (Interview mit Wolfgang Sieb
 er) & mit Polit–Kompass
DESCRIPTION:Speaker(s): Peter Hagmann\, Dr. phil.\, Musikredaktor\, Journal
 ist NZZ & mit Rot. Georges Theiler
URL:https://rotaryclubluzern.ch/en/agenda/show/34592
DTSTART;TZID=Europe/Zurich:20130902T121500
DTEND;TZID=Europe/Zurich:20130902T121500
LOCATION:Hotel Schweizerhof
CATEGORIES:Rotary
END:VEVENT
BEGIN:VTIMEZONE
TZID:Europe/Zurich
BEGIN:DAYLIGHT
DTSTART:20130902T121500
TZNAME:CEST
TZOFFSETTO:+0200
TZOFFSETFROM:+0200
END:DAYLIGHT
END:VTIMEZONE
END:VCALENDAR
