BEGIN:VCALENDAR
PRODID:-//eluceo/ical//2.0/EN
VERSION:2.0
CALSCALE:GREGORIAN
BEGIN:VEVENT
UID:12163a423de961162f23284835496f92
DTSTAMP:20260422T190032Z
SUMMARY:Vom Kursaal zum Grand Casino
DESCRIPTION:Speaker(s): Rot. Guido Egli\, CEO Mövenpick Holding AG
URL:https://rotaryclubluzern.ch/en/agenda/show/20883
DTSTART;TZID=Europe/Zurich:20120227T000000
DTEND;TZID=Europe/Zurich:20120227T000000
LOCATION:Hotel Wilden Mann
CATEGORIES:Rotary
END:VEVENT
BEGIN:VTIMEZONE
TZID:Europe/Zurich
BEGIN:STANDARD
DTSTART:20120227T000000
TZNAME:CET
TZOFFSETTO:+0100
TZOFFSETFROM:+0100
END:STANDARD
END:VTIMEZONE
END:VCALENDAR
