BEGIN:VCALENDAR
PRODID:-//eluceo/ical//2.0/EN
VERSION:2.0
CALSCALE:GREGORIAN
BEGIN:VEVENT
UID:f25926c61e30849fdfbb44b41462d134
DTSTAMP:20260425T152819Z
SUMMARY:Medien in Zeiten des Sturms
DESCRIPTION:Webseite: http://www.schweizerhof-luzern.ch\nReferenten/innen: 
 Constantin Seibt\, Journalist & Autor
URL:https://rotaryclubluzern.ch/de/agenda/show/71785
DTSTART;TZID=Europe/Zurich:20170410T121500
DTEND;TZID=Europe/Zurich:20170410T121500
LOCATION:Hotel Schweizerhof
CATEGORIES:Rotary
END:VEVENT
BEGIN:VTIMEZONE
TZID:Europe/Zurich
BEGIN:DAYLIGHT
DTSTART:20170410T121500
TZNAME:CEST
TZOFFSETTO:+0200
TZOFFSETFROM:+0200
END:DAYLIGHT
END:VTIMEZONE
END:VCALENDAR
