BEGIN:VCALENDAR
PRODID:-//eluceo/ical//2.0/EN
VERSION:2.0
CALSCALE:GREGORIAN
BEGIN:VEVENT
UID:c363106c7f59ef0a41c5eb440e1565b8
DTSTAMP:20260425T102927Z
SUMMARY:Rotary-Frühstück
DESCRIPTION:Webseite: http://www.schweizerhof-luzern.ch
URL:https://rotaryclubluzern.ch/de/agenda/show/71763
DTSTART;TZID=Europe/Zurich:20170426T070000
DTEND;TZID=Europe/Zurich:20170426T070000
LOCATION:Hotel Schweizerhof
CATEGORIES:Rotary
END:VEVENT
BEGIN:VTIMEZONE
TZID:Europe/Zurich
BEGIN:DAYLIGHT
DTSTART:20170426T070000
TZNAME:CEST
TZOFFSETTO:+0200
TZOFFSETFROM:+0200
END:DAYLIGHT
END:VTIMEZONE
END:VCALENDAR
