BEGIN:VCALENDAR
PRODID:-//eluceo/ical//2.0/EN
VERSION:2.0
CALSCALE:GREGORIAN
BEGIN:VEVENT
UID:56b726ea644b514081f7afd5893c07a2
DTSTAMP:20260425T134213Z
SUMMARY:«Menschen am Rand»
DESCRIPTION:Webseite: http://www.wilden-mann.ch/de\nReferenten/innen: Rot. 
 Barbara Ludwig\, Leiterin des Geschäftsbereichs Sucht und Drogen\, Züric
 h
URL:https://rotaryclubluzern.ch/de/agenda/show/66928
DTSTART;TZID=Europe/Zurich:20161010T121500
DTEND;TZID=Europe/Zurich:20161010T121500
LOCATION:Hotel Wilden Mann
CATEGORIES:Rotary
END:VEVENT
BEGIN:VTIMEZONE
TZID:Europe/Zurich
BEGIN:DAYLIGHT
DTSTART:20161010T121500
TZNAME:CEST
TZOFFSETTO:+0200
TZOFFSETFROM:+0200
END:DAYLIGHT
END:VTIMEZONE
END:VCALENDAR
