BEGIN:VCALENDAR
PRODID:-//eluceo/ical//2.0/EN
VERSION:2.0
CALSCALE:GREGORIAN
BEGIN:VEVENT
UID:5d6f9c7f4479852b7da4bfbc88bbb047
DTSTAMP:20260419T123458Z
SUMMARY:Trauerlunch Rot. Bruno Sigg selig
DESCRIPTION:Webseite: http://www.wilden-mann.ch/de\nReferenten/innen: Rot. 
 Jost Fischer
URL:https://rotaryclubluzern.ch/de/agenda/show/66926
DTSTART;TZID=Europe/Zurich:20161003T121500
DTEND;TZID=Europe/Zurich:20161003T121500
LOCATION:Hotel Wilden Mann
CATEGORIES:Rotary
END:VEVENT
BEGIN:VTIMEZONE
TZID:Europe/Zurich
BEGIN:DAYLIGHT
DTSTART:20161003T121500
TZNAME:CEST
TZOFFSETTO:+0200
TZOFFSETFROM:+0200
END:DAYLIGHT
END:VTIMEZONE
END:VCALENDAR
