BEGIN:VCALENDAR
PRODID:-//eluceo/ical//2.0/EN
VERSION:2.0
CALSCALE:GREGORIAN
BEGIN:VEVENT
UID:6a1c3d23df210ea83ab5f0055452b104
DTSTAMP:20260425T165454Z
SUMMARY:Thema „secret“
DESCRIPTION:Webseite: http://www.schweizerhof-luzern.ch\nReferenten/innen: 
 Jan Jenisch\, CEO SIKA AG
URL:https://rotaryclubluzern.ch/de/agenda/show/58862
DTSTART;TZID=Europe/Zurich:20160125T121500
DTEND;TZID=Europe/Zurich:20160125T121500
LOCATION:Hotel Wilden Mann
CATEGORIES:Rotary
END:VEVENT
BEGIN:VTIMEZONE
TZID:Europe/Zurich
BEGIN:STANDARD
DTSTART:20160125T121500
TZNAME:CET
TZOFFSETTO:+0100
TZOFFSETFROM:+0100
END:STANDARD
END:VTIMEZONE
END:VCALENDAR
