BEGIN:VCALENDAR
PRODID:-//eluceo/ical//2.0/EN
VERSION:2.0
CALSCALE:GREGORIAN
BEGIN:VEVENT
UID:2e17d08f7cf0aad8337bc53d417d8e71
DTSTAMP:20260425T153747Z
SUMMARY:Trauerlunch Rot. Jules Peter
DESCRIPTION:Webseite: http://www.wilden-mann.ch\nReferenten/innen: Rot. Lou
 is Brotschi
URL:https://rotaryclubluzern.ch/de/agenda/show/55814
DTSTART;TZID=Europe/Zurich:20151012T121500
DTEND;TZID=Europe/Zurich:20151012T121500
LOCATION:Hotel Wilden Mann
CATEGORIES:Rotary
END:VEVENT
BEGIN:VTIMEZONE
TZID:Europe/Zurich
BEGIN:DAYLIGHT
DTSTART:20151012T121500
TZNAME:CEST
TZOFFSETTO:+0200
TZOFFSETFROM:+0200
END:DAYLIGHT
END:VTIMEZONE
END:VCALENDAR
