BEGIN:VCALENDAR
PRODID:-//eluceo/ical//2.0/EN
VERSION:2.0
CALSCALE:GREGORIAN
BEGIN:VEVENT
UID:a63d1df894e636f1e2a3abc81bb80489
DTSTAMP:20260421T082543Z
SUMMARY:Victorinox –Vom Schweizer Soldatenmesser zur Weltmarke
DESCRIPTION:Webseite: http://www.schweizerhof-luzern.ch\nReferenten/innen: 
 Carl Elsener\, CEO Victorinox
URL:https://rotaryclubluzern.ch/de/agenda/show/53757
DTSTART;TZID=Europe/Zurich:20150817T121500
DTEND;TZID=Europe/Zurich:20150817T121500
LOCATION:Hotel Schweizerhof
CATEGORIES:Rotary
END:VEVENT
BEGIN:VTIMEZONE
TZID:Europe/Zurich
BEGIN:DAYLIGHT
DTSTART:20150817T121500
TZNAME:CEST
TZOFFSETTO:+0200
TZOFFSETFROM:+0200
END:DAYLIGHT
END:VTIMEZONE
END:VCALENDAR
