BEGIN:VCALENDAR
PRODID:-//eluceo/ical//2.0/EN
VERSION:2.0
CALSCALE:GREGORIAN
BEGIN:VEVENT
UID:0628450f6407c5596c4f38f3d6ea81bd
DTSTAMP:20260423T042455Z
SUMMARY:Herausforderung Generation Z
DESCRIPTION:Web stranica: http://www.schweizerhof-luzern.ch\nGovornik(ci): 
 Yannick Blättler\, Founder & Geschäftsführer Neoviso GmbH
URL:https://rotaryclubluzern.ch/bs/agenda/show/71790
DTSTART;TZID=Europe/Zurich:20170515T121500
DTEND;TZID=Europe/Zurich:20170515T121500
LOCATION:Hotel Schweizerhof
CATEGORIES:Rotary
END:VEVENT
BEGIN:VTIMEZONE
TZID:Europe/Zurich
BEGIN:DAYLIGHT
DTSTART:20170515T121500
TZNAME:CEST
TZOFFSETTO:+0200
TZOFFSETFROM:+0200
END:DAYLIGHT
END:VTIMEZONE
END:VCALENDAR
