BEGIN:VCALENDAR
PRODID:-//eluceo/ical//2.0/EN
VERSION:2.0
CALSCALE:GREGORIAN
BEGIN:VEVENT
UID:b8fa37ee83f6d32919028bcd238dee8b
DTSTAMP:20260423T042310Z
SUMMARY:Luzerner Theater quo vadis?
DESCRIPTION:Partneranlass\nWeb stranica: http://www.schweizerhof-luzern.ch\
 nGovornik(ci): Benedikt von Peter\, Intendant Luzerner Theater
URL:https://rotaryclubluzern.ch/bs/agenda/show/71789
DTSTART;TZID=Europe/Zurich:20170508T121500
DTEND;TZID=Europe/Zurich:20170508T121500
LOCATION:Hotel Schweizerhof
CATEGORIES:Rotary
END:VEVENT
BEGIN:VTIMEZONE
TZID:Europe/Zurich
BEGIN:DAYLIGHT
DTSTART:20170508T121500
TZNAME:CEST
TZOFFSETTO:+0200
TZOFFSETFROM:+0200
END:DAYLIGHT
END:VTIMEZONE
END:VCALENDAR
