BEGIN:VCALENDAR
PRODID:-//eluceo/ical//2.0/EN
VERSION:2.0
CALSCALE:GREGORIAN
BEGIN:VEVENT
UID:adde59b9f72c0438b5c4bd0700b37a41
DTSTAMP:20260422T232852Z
SUMMARY:NEAT – Neue Eisenbahn-Alpentransversale
DESCRIPTION:Web stranica: https://www.verkehrshaus.ch\nGovornik(ci): Rot. M
 artin Bütikofer
URL:https://rotaryclubluzern.ch/bs/agenda/show/60134
DTSTART;TZID=Europe/Zurich:20160530T120000
DTEND;TZID=Europe/Zurich:20160530T120000
LOCATION:Verkehrshaus der Schweiz
CATEGORIES:Rotary
END:VEVENT
BEGIN:VTIMEZONE
TZID:Europe/Zurich
BEGIN:DAYLIGHT
DTSTART:20160530T120000
TZNAME:CEST
TZOFFSETTO:+0200
TZOFFSETFROM:+0200
END:DAYLIGHT
END:VTIMEZONE
END:VCALENDAR
