BEGIN:VCALENDAR
PRODID:-//eluceo/ical//2.0/EN
VERSION:2.0
CALSCALE:GREGORIAN
BEGIN:VEVENT
UID:92db42b15e63400c924787018c064fbf
DTSTAMP:20260423T025706Z
SUMMARY:Abendprogramm – Partneranlass RC Entlebuch „Entwicklung der mod
 ernen Urologie und Viszeralchirurgie am Beispiel des Operationsroboters Da
  Vinci“
DESCRIPTION:Web stranica: https://www.luks.ch/standorte/luzern.html\nGovorn
 ik(ci): RC Entlebuch\, Rot. Thomas C. R. Studer
URL:https://rotaryclubluzern.ch/bs/agenda/show/60130
DTSTART;TZID=Europe/Zurich:20160421T180000
DTEND;TZID=Europe/Zurich:20160421T180000
LOCATION:Kantonsspital Luzern – Hörsaal
CATEGORIES:Rotary
END:VEVENT
BEGIN:VTIMEZONE
TZID:Europe/Zurich
BEGIN:DAYLIGHT
DTSTART:20160421T180000
TZNAME:CEST
TZOFFSETTO:+0200
TZOFFSETFROM:+0200
END:DAYLIGHT
END:VTIMEZONE
END:VCALENDAR
