BEGIN:VCALENDAR
PRODID:-//eluceo/ical//2.0/EN
VERSION:2.0
CALSCALE:GREGORIAN
BEGIN:VEVENT
UID:da6c0398dd71cbe649ae821c75ccc11b
DTSTAMP:20260424T092007Z
SUMMARY:Präsenzfrühstück
DESCRIPTION:Web stranica: http://www.schweizerhof-luzern.ch
URL:https://rotaryclubluzern.ch/bs/agenda/show/48687
DTSTART;TZID=Europe/Zurich:20150204T070000
DTEND;TZID=Europe/Zurich:20150204T070000
LOCATION:Hotel Schweizerhof
CATEGORIES:Rotary
END:VEVENT
BEGIN:VTIMEZONE
TZID:Europe/Zurich
BEGIN:STANDARD
DTSTART:20150204T070000
TZNAME:CET
TZOFFSETTO:+0100
TZOFFSETFROM:+0100
END:STANDARD
END:VTIMEZONE
END:VCALENDAR
