BEGIN:VCALENDAR
PRODID:-//eluceo/ical//2.0/EN
VERSION:2.0
CALSCALE:GREGORIAN
BEGIN:VEVENT
UID:9ab6f71e6b7cd9dcd70a11ce299a164a
DTSTAMP:20260424T095745Z
SUMMARY:«Paul Hug - Ein Leben für unser täglich Brot» - Rotariergesprä
 ch
DESCRIPTION:Web stranica: http://www.wilden-mann.ch\nGovornik(ci): Rot. Uel
 i Fricker und Rot. Paul Hug sen.
URL:https://rotaryclubluzern.ch/bs/agenda/show/37162
DTSTART;TZID=Europe/Zurich:20140210T121500
DTEND;TZID=Europe/Zurich:20140210T121500
LOCATION:Hotel Wilden Mann
CATEGORIES:Rotary
END:VEVENT
BEGIN:VTIMEZONE
TZID:Europe/Zurich
BEGIN:STANDARD
DTSTART:20140210T121500
TZNAME:CET
TZOFFSETTO:+0100
TZOFFSETFROM:+0100
END:STANDARD
END:VTIMEZONE
END:VCALENDAR
