BEGIN:VCALENDAR
PRODID:-//eluceo/ical//2.0/EN
VERSION:2.0
CALSCALE:GREGORIAN
BEGIN:VEVENT
UID:64740cabf73a3ca7b648004b2ccf6a9a
DTSTAMP:20260422T151718Z
SUMMARY:«Klassifikationsvortrag»
DESCRIPTION:Govornik(ci): Rot. Daniel Salzmann\, LUKB
URL:https://rotaryclubluzern.ch/bs/agenda/show/29587
DTSTART;TZID=Europe/Zurich:20130429T121500
DTEND;TZID=Europe/Zurich:20130429T121500
LOCATION:Hotel Schweizerhof
CATEGORIES:Rotary
END:VEVENT
BEGIN:VTIMEZONE
TZID:Europe/Zurich
BEGIN:DAYLIGHT
DTSTART:20130429T121500
TZNAME:CEST
TZOFFSETTO:+0200
TZOFFSETFROM:+0200
END:DAYLIGHT
END:VTIMEZONE
END:VCALENDAR
