BEGIN:VCALENDAR
PRODID:-//eluceo/ical//2.0/EN
VERSION:2.0
CALSCALE:GREGORIAN
BEGIN:VEVENT
UID:bd71e64f3d0cbf078ad427d5e5836e07
DTSTAMP:20260422T145214Z
SUMMARY:«Die Kunst als KMU im Euroraum zu überleben»
DESCRIPTION:Govornik(ci): Rot. Reto Sieber\, CEO SIGA
URL:https://rotaryclubluzern.ch/bs/agenda/show/28417
DTSTART;TZID=Europe/Zurich:20130107T121500
DTEND;TZID=Europe/Zurich:20130107T121500
LOCATION:Hotel Wilden Mann
CATEGORIES:Rotary
END:VEVENT
BEGIN:VTIMEZONE
TZID:Europe/Zurich
BEGIN:STANDARD
DTSTART:20130107T121500
TZNAME:CET
TZOFFSETTO:+0100
TZOFFSETFROM:+0100
END:STANDARD
END:VTIMEZONE
END:VCALENDAR
