BEGIN:VCALENDAR
PRODID:-//eluceo/ical//2.0/EN
VERSION:2.0
CALSCALE:GREGORIAN
BEGIN:VEVENT
UID:7665f7ba5a729613551bc5a044e65f84
DTSTAMP:20260424T185453Z
SUMMARY:«Der Architekt Louis Kahn»
DESCRIPTION:Govornik(ci): Prof. Dr. Stanislaus Vonmoos\, Yale School of Arc
 hitecture
URL:https://rotaryclubluzern.ch/bs/agenda/show/24717
DTSTART;TZID=Europe/Zurich:20120730T121500
DTEND;TZID=Europe/Zurich:20120730T121500
LOCATION:Hotel Schweizerhof
CATEGORIES:Rotary
END:VEVENT
BEGIN:VTIMEZONE
TZID:Europe/Zurich
BEGIN:DAYLIGHT
DTSTART:20120730T121500
TZNAME:CEST
TZOFFSETTO:+0200
TZOFFSETFROM:+0200
END:DAYLIGHT
END:VTIMEZONE
END:VCALENDAR
